BEGIN:VCALENDAR
VERSION:2.0
PRODID:icalendar-ruby
CALSCALE:GREGORIAN
BEGIN:VEVENT
DTSTAMP:20260419T125222Z
UID:6d8e8bf6-95fc-4a5d-b335-c3175d087a66
DTSTART;VALUE=DATE:20241014
DTEND;VALUE=DATE:20241015
SUMMARY:Start of Term 4
END:VEVENT
END:VCALENDAR
