BEGIN:VCALENDAR
VERSION:2.0
PRODID:icalendar-ruby
CALSCALE:GREGORIAN
BEGIN:VEVENT
DTSTAMP:20260419T125319Z
UID:62479e47-7a0b-4eb0-8c6b-fd97ff6deb49
DTSTART;VALUE=DATE:20241024
DTEND;VALUE=DATE:20241025
SUMMARY:Show Day
END:VEVENT
END:VCALENDAR
