BEGIN:VCALENDAR
VERSION:2.0
PRODID:icalendar-ruby
CALSCALE:GREGORIAN
BEGIN:VEVENT
DTSTAMP:20260419T125402Z
UID:110c3612-ed34-4878-8262-7ef1ed842a09
DTSTART;VALUE=DATE:20241028
DTEND;VALUE=DATE:20241029
SUMMARY:Labour Day 
END:VEVENT
END:VCALENDAR
