BEGIN:VCALENDAR
VERSION:2.0
PRODID:icalendar-ruby
CALSCALE:GREGORIAN
BEGIN:VEVENT
DTSTAMP:20260419T125149Z
UID:1bb8ccd8-8231-4864-b72d-defd05c1e5c7
DTSTART;VALUE=DATE:20241218
DTEND;VALUE=DATE:20241219
DESCRIPTION:Finish at 12pm
SUMMARY:End of Term 4
END:VEVENT
END:VCALENDAR
