BEGIN:VCALENDAR
VERSION:2.0
PRODID:icalendar-ruby
CALSCALE:GREGORIAN
BEGIN:VEVENT
DTSTAMP:20260419T125348Z
UID:ddf7a188-50d9-4e9a-a020-bbe0f1620739
DTSTART;VALUE=DATE:20241025
DTEND;VALUE=DATE:20241026
SUMMARY:Ministry of Education Curriculum Staff Only Day
END:VEVENT
END:VCALENDAR
