BEGIN:VCALENDAR
VERSION:2.0
PRODID:icalendar-ruby
CALSCALE:GREGORIAN
BEGIN:VEVENT
DTSTAMP:20260419T125222Z
UID:5fa7ef1f-902f-4a17-a284-4196ed929bc1
DTSTART;VALUE=DATE:20240927
DTEND;VALUE=DATE:20240928
SUMMARY:End of Term 3
END:VEVENT
END:VCALENDAR
